BEGIN:VCALENDAR
VERSION:2.0
PRODID:-//ChamberMaster//Event Calendar 2.0//EN
METHOD:PUBLISH
X-PUBLISHED-TTL:P1H
REFRESH-INTERVAL:P1H
CALSCALE:GREGORIAN
BEGIN:VTIMEZONE
TZID:America/Chicago
BEGIN:DAYLIGHT
RRULE:FREQ=YEARLY;BYMONTH=3;BYDAY=2SU
DTSTART:20070101T000000
TZOFFSETFROM:-0600
TZOFFSETTO:-0500
TZNAME:Central Daylight Time
END:DAYLIGHT
BEGIN:STANDARD
RRULE:FREQ=YEARLY;BYMONTH=11;BYDAY=1SU
DTSTART:20070101T000000
TZOFFSETFROM:-0500
TZOFFSETTO:-0600
TZNAME:Central Standard Time
END:STANDARD
END:VTIMEZONE
BEGIN:VEVENT
DTSTART;VALUE=DATE:20260918
DTEND;VALUE=DATE:20260920
TRANSP:TRANSPARENT
X-MICROSOFT-CDO-ALLDAYEVENT:TRUE
SUMMARY:ALSAM Annual Conference 2026
DESCRIPTION:Alabama Society of Addiction Medicine Annual Conference  Register Here -Register for ALSAM Annual Conference 2026
X-ALT-DESC;FMTTYPE=text/html:<!DOCTYPE html><html><head><title></title></head><body aria-disabled="false"><p>Alabama Society of Addiction Medicine Annual Conference&nbsp\;</p><p><strong fr-original-style="" style="font-weight: 700\;"><span style="font-size: 30px\;">&nbsp\;Register Here -</span></strong></p><p><a fr-original-style="" href="https://lp.constantcontactpages.com/ev/reg/7c9dpqx/lp/811d625b-a848-4efc-9ea6-26a9a5611562" style="user-select: auto\;">Register for ALSAM Annual Conference 2026</a></p></body></html>
LOCATION:2727 18th Street South Homewood AL 35209
UID:e.4437.1431812
SEQUENCE:3
DTSTAMP:20260424T161030Z
URL:https://members.alabama-sam.org/alsam-events/Details/alsam-annual-conference-2026-1694614?sourceTypeId=Hub
END:VEVENT
END:VCALENDAR
